Workbook
Name _Hlk138758032: 'ENCODAGE DE MON PROJET'!#REF!
Name _Hlk138758032: INTRODUCTION!#REF!
Name _Hlk138758033: 'ENCODAGE DE MON PROJET'!#REF!
Name _Hlk138758033: INTRODUCTION!#REF!

Sheet INTRODUCTION
D3: Renov-Bizet - Rénovation groupée du quartier Bizet
D4: Quartier Bizet - 1070 Anderlecht
D10: Estimatif budgétaire du coût de construction
B12: 0 | D12: Introduction
D14: À PROPOS DE L'ESTIMATIF :
D16: Ce document a été élaboré dans le cadre du projet Renov-Bizet dans le but d'aider les participants à estimer eux-mêmes
D17: le coût des travaux de rénovation énergétique qu'ils envisagent d'entreprendre.
D19: Les prix mentionnés dans l'estimatif correspondent aux prix du marché du deuxième trimestre de 2023.
D20: Cet estimatif est réalisé de manière succinte et approximative dans le but d'orienter le maître d'ouvrage.
D21: Ce document ne fournit en aucun cas les prix exacts du projet du maître d'ouvrage.
D22: La responsabilité de l'encodage incombe au maître d'ouvrage.
D25: COMMENT LIRE CE DOCUMENT :
D27: Encodage
D28: L'encodage se fait dans l'onglet "Encodage de mon projet".
D29: Vous devez remplir les cases vertes de cet onglet.
D30: Des schémas accompagnent le document pour illustrer les données à remplir.
... D45: 1 ENCODAGE DE MON PROJET
D47: Isolation de la toiture principale | E47: =IF(OR('ENCODAGE DE MON PROJET'!E61="OUI",'ENCODAGE DE MON PROJET'!E62="OUI",'ENCODAGE DE MON PROJET'!E84="OUI"),"OUI","NON") -> NON | F47: =IF(OR('ENCODAGE DE MON PROJET'!E61="OUI",'ENCODAGE DE MON PROJET'!E62="OUI",'ENCODAGE DE MON PROJET'!E84="OUI"),'ENCODAGE DE MON PROJET'!E64+'ENCODAGE DE MON PROJET'!E85," ") | G47: m²
D48: Isolation de la toiture d'extension | E48: ='ENCODAGE DE MON PROJET'!E103 -> NON | F48: =IF('ENCODAGE DE MON PROJET'!E103="OUI",'ENCODAGE DE MON PROJET'!E104," ") | G48: m²
D49: Isolation de la toiture façade avant | E49: =IF('ENCODAGE DE MON PROJET'!E123="OUI","OUI par l'extérieur",IF('ENCODAGE DE MON PROJET'!E124="OUI","OUI par l'intérieur","NON")) -> NON | F49: =IF(OR('ENCODAGE DE MON PROJET'!E123="OUI",'ENCODAGE DE MON PROJET'!E124="OUI"),'ENCODAGE DE MON PROJET'!E125," ") | G49: m²
D50: Isolation de la toiture façade arrière | E50: ='ENCODAGE DE MON PROJET'!E153 -> NON | F50: =IF('ENCODAGE DE MON PROJET'!E153="OUI",'ENCODAGE DE MON PROJET'!E154," ") | G50: m²
D51: Isolation de la toiture façade d'extension | E51: ='ENCODAGE DE MON PROJET'!E172 -> NON | F51: =IF('ENCODAGE DE MON PROJET'!E172="OUI",'ENCODAGE DE MON PROJET'!E173," ") | G51: m²
D52: Isolation des mitoyens | E52: ='ENCODAGE DE MON PROJET'!E191 -> NON | F52: =IF('ENCODAGE DE MON PROJET'!E191="OUI",'ENCODAGE DE MON PROJET'!E192," ") | G52: m²
D53: Isolation de la dalle de sol | E53: ='ENCODAGE DE MON PROJET'!E211 -> NON | F53: =IF('ENCODAGE DE MON PROJET'!E211="OUI",'ENCODAGE DE MON PROJET'!E212," ") | G53: m²
D54: Isolation du plafond des caves | E54: ='ENCODAGE DE MON PROJET'!E230 -> NON | F54: =IF('ENCODAGE DE MON PROJET'!E230="OUI",'ENCODAGE DE MON PROJET'!E232," ") | G54: m²
D56: Remplacement de châssis | E56: =IF('ENCODAGE DE MON PROJET'!E251="OUI",IF('ENCODAGE DE MON PROJET'!E252="triple vitrage","OUI, triple vitrage","OUI, double vitrage"),"NON") -> NON | F56: =IF('ENCODAGE DE MON PROJET'!E251="OUI",'ENCODAGE DE MON PROJET'!E256," ") | G56: m²
D57: Remplacement de la porte d'entrée | E57: ='ENCODAGE DE MON PROJET'!E274 -> NON
D58: Remplacement de fenêtres de toiture en pente | E58: =IF('ENCODAGE DE MON PROJET'!E292="OUI",IF('ENCODAGE DE MON PROJET'!E293="triple vitrage","OUI, triple vitrage","OUI, double vitrage"),"NON") -> NON | F58: =IF('ENCODAGE DE MON PROJET'!E292="OUI",'ENCODAGE DE MON PROJET'!E294," ") | G58: fenêtres
D59: Remplacement de fenêtres de toiture plate | E59: =IF('ENCODAGE DE MON PROJET'!E312="OUI",IF('ENCODAGE DE MON PROJET'!E313="triple vitrage","OUI, triple vitrage","OUI, double vitrage"),"NON") -> NON | F59: =IF('ENCODAGE DE MON PROJET'!E312="OUI",'ENCODAGE DE MON PROJET'!E314," ") | G59: fenêtres
D61: Remplacement de chaudière | E61: =IF('ENCODAGE DE MON PROJET'!E333="OUI",IF('ENCODAGE DE MON PROJET'!E334="pompe à chaleur","OUI, PAC","OUI, chaudière"),"NON") -> NON
D62: Installation d'un système de ventilation | E62: =IF('ENCODAGE DE MON PROJET'!E371="OUI",IF('ENCODAGE DE MON PROJET'!E372="D (double flux)","OUI, double flux","OUI, simple flux"),"NON") -> NON
D63: Installation de panneaux photovoltaïques | E63: ='ENCODAGE DE MON PROJET'!E400 -> NON | F63: =IF('ENCODAGE DE MON PROJET'!E400="OUI",'ENCODAGE DE MON PROJET'!E401," ") | G63: panneaux
D65: 2 ESTIMATIF
D67: TOTAL travaux htva | K67: =ESTIMATIF!L160 -> 840 | L67: htva
D68: TOTAL travaux + imprévus htva | K68: =ESTIMATIF!L164 -> 882 | L68: htva
D69: TOTAL travaux + imprévus tvac | K69: =ESTIMATIF!L168 -> 934.92 | L69: tvac
D70: TOTAL TRAVAUX + IMPREVUS + HONORAIRES TTC | K70: =ESTIMATIF!L193 -> 3189.634 | L70: tvac
D72: 3 PRIMES
D74: TOTAL PRIMES (plafond 50.000 €) | K74: =PRIMES!L88 -> 0 | L74: tvac
D75: TOTAL TRAVAUX + IMPREVUS + HONORAIRES TTC - PRIMES | K75: =K70-K74 -> 3189.634 | L75: tvac
...

Sheet ENCODAGE DE MON PROJET
D3: Renov-Bizet - Rénovation groupée du quartier Bizet
D4: Quartier Bizet - 1070 Anderlecht
D10: Estimatif budgétaire du coût de construction
B12: 1 | D12: Encodage des données
D14: MA SITUATION ET MON LOGEMENT :
D16: Dimensions
D17: > hauteur de ma façade principale [A] | E17: 0 | F17: m | G17: =IF(E17=0,"compléter la case"," ") -> compléter la case
D18: > largeur de ma façade principale [B] | E18: 0 | F18: m | G18: =IF(E18=0,"compléter la case"," ") -> compléter la case
D19: > profondeur du volume principal [C] | E19: 0 | F19: m | G19: =IF(E19=0,"compléter la case"," ") -> compléter la case
D20: > nombre d'étages (hors sol) [D] | E20: 0 | G20: =IF(E20=0,"compléter la case"," ") -> compléter la case
D21: ce document tient compte du fait que les caves ne sont ni habitées, ni chauffées
D22: > mon logement a une extension [E] | E22: OUI
D23: > hauteur de l'extension [F] | E23: 0 | F23: m | G23: =IF(AND(E22="OUI",E23=0),"compléter la case"," ") -> compléter la case
D24: > largeur de l'extension [G] | E24: 0 | F24: m | G24: =IF(AND(E22="OUI",E24=0),"compléter la case"," ") -> compléter la case
D25: > profondeur de l'extension [H] | E25: 0 | F25: m | G25: =IF(AND(E22="OUI",E25=0),"compléter la case"," ") -> compléter la case
D26: > nombre d'étages de l'extension [I] | E26: 1 | G26: =IF(E26=0,"compléter la case"," ")
D27: > nombre de fenêtres en façade
D28: > en façade avant [J] | E28: 0 | G28: =IF(E28=0,"compléter la case"," ") -> compléter la case
D29: > en façade arrière principale [K] | E29: 0 | G29: =IF(E29=0,"compléter la case"," ") -> compléter la case
D30: > en façade d'extension [L] | E30: 0 | G30: =IF(AND(E30=0,E22="OUI",F30),"compléter la case"," ") -> compléter la case
D31: > surface brute de plancher | E31: =(E18*E19)*E20+E24*E25*E26 -> 0 | F31: m²
D51: Je choisis d'utiliser des matériaux écologiques | E51: NON
D53: Catégorie de revenus | E53: Classe I
D54: pour déterminer la catégorie de revenu, consulter le site de Renolution
D55: https://renolution.brussels/fr/les-categories-de-revenus-2023
D58: TRAVAUX :
D60: Toiture principale à versants
D61: > j'isole par l'extérieur (je garde les faux-plafonds) | E61: NON | G61: =IF(AND(E61="OUI",E62="OUI"),"ERREUR: isoler la façade avant soit par l'intérieur, soit l'extérieur"," ")
D62: > j'isole par l'intérieur (mes tuiles et pare-pluie sont en bon état) | E62: NON | G62: =IF(AND(E61="OUI",E62="OUI"),"ERREUR: isoler la façade avant soit par l'intérieur, soit l'extérieur"," ")
D63: > je refais la charpente | E63: NON | G63: =IF(AND(E61="NON",E63="OUI"),"la case ne peut pas être OUI si vous n'isolez pas par l'extérieur"," ")
D64: > surface à rénover | E64: 0 | F64: m² | G64: =IF(AND(E61="OUI",E64=0),"compléter la case"," ")
D65: remarque : bien tenir compte de la pente de toiture lors du calcul
E67: Ce document prend compte des travaux suivants :
E68: - Échaffaudage
E69: - Démolition des tuiles
E70: - Remplacement éventuel de chevrons
E71: - Isolant
E72: - Pare-pluie
E73: - Pare-vapeur
E74: - Nouvelle tuile
...

Sheet ESTIMATIF
D3: Renov-Bizet - Rénovation groupée du quartier Bizet
D4: Quartier Bizet - 1070 Anderlecht
D10: Estimatif budgétaire du coût de construction
B12: 1 | D12: Coût travaux (estimatif)
C14: 1.1 | D14: Travaux préparatoires
C15: 1.1.1 | D15: Installation de chantier | F15: 0.04 | H15: x | I15: =SUM(L20:L158) -> 0 | J15: htva | K15: = | L15: =I15*F15 -> 0 | M15: htva
C16: 1.1.2 | D16: États des lieux | F16: 1 | G16: FF | H16: x | I16: 840 | J16: htva | K16: = | L16: =I16*F16 -> 840 | M16: htva
C17: 1.1.3 | D17: Containers | F17: 1 | G17: FF | H17: x | I17: =50%*SUM(L20:L22)+20%*SUM(L23:L43) -> 0 | J17: htva | K17: = | L17: =I17*F17 -> 0 | M17: htva
C19: 1.2 | D19: Démolitions
C20: 1.2.1 | D20: Démolition de la chape existante | F20: =IF('ENCODAGE DE MON PROJET'!E211="NON", 0, 'ENCODAGE DE MON PROJET'!E212) -> 0 | G20: m² | H20: x | I20: 48 | J20: htva | K20: = | L20: =I20*F20 -> 0 | M20: htva
C21: 1.2.2 | D21: Démolition tuile + pare-pluie + lattage | F21: =IF('ENCODAGE DE MON PROJET'!E61="NON", 0, 'ENCODAGE DE MON PROJET'!E64) -> 0 | G21: ml | H21: x | I21: 38 | J21: htva | K21: = | L21: =I21*F21 -> 0 | M21: htva
C22: 1.2.3 | D22: Démolition de faux-plafond | F22: =IF('ENCODAGE DE MON PROJET'!E62="NON", 0, 'ENCODAGE DE MON PROJET'!E64) -> 0 | G22: ml | H22: x | I22: 28 | J22: htva | K22: = | L22: =I22*F22 -> 0 | M22: htva
C23: 1.2.4 | D23: Démolition ancienne étanchéité | F23: =SUM(E24:E25) -> 0 | G23: m² | H23: x | I23: 37 | J23: htva | K23: = | L23: =I23*F23 -> 0 | M23: htva
D24: toiture plate principale | E24: =IF('ENCODAGE DE MON PROJET'!E84="NON", 0, 'ENCODAGE DE MON PROJET'!E85) -> 0
D25: toiture plate annexe | E25: =IF('ENCODAGE DE MON PROJET'!E103="NON", 0, 'ENCODAGE DE MON PROJET'!E104) -> 0
C26: 1.2.5 | D26: Démolition des DEP | F26: =SUM(E27:E29) -> 0 | G26: ml | H26: x | I26: 15 | J26: htva | K26: = | L26: =I26*F26 -> 0 | M26: htva
D27: façade avant | E27: =IF(AND('ENCODAGE DE MON PROJET'!E61="NON", 'ENCODAGE DE MON PROJET'!E84="NON"), 0, 'ENCODAGE DE MON PROJET'!E17) -> 0
D28: façade arrière principale | E28: =IF(AND('ENCODAGE DE MON PROJET'!E61="NON",'ENCODAGE DE MON PROJET'!E84="NON"),0,'ENCODAGE DE MON PROJET'!E17-'ENCODAGE DE MON PROJET'!E23) -> 0
D29: façade annexe | E29: =IF('ENCODAGE DE MON PROJET'!E103="NON",0,'ENCODAGE DE MON PROJET'!E23) -> 0
C30: 1.2.6 | D30: Démolition habillage de corniche | F30: =SUM(E31:E32) -> 0 | G30: ml | H30: x | I30: 18 | J30: htva | K30: = | L30: =I30*F30 -> 0 | M30: htva
D31: toiture principale | E31: =IF(AND('ENCODAGE DE MON PROJET'!E61="NON", 'ENCODAGE DE MON PROJET'!E84="NON"), 0, 2*'ENCODAGE DE MON PROJET'!E18) -> 0
D32: toiture annexe | E32: =IF('ENCODAGE DE MON PROJET'!E103="NON",0,IF('ENCODAGE DE MON PROJET'!E18>'ENCODAGE DE MON PROJET'!E24,'ENCODAGE DE MON PROJET'!E24+'ENCODAGE DE MON PROJET'!E25,'ENCODAGE DE MON PROJET'!E18)) -> 0
C33: 1.2.7 | D33: Découpe de seuils en pierre bleue | F33: =SUM(E34:E36) -> 0 | G33: pce | H33: x | I33: 80 | J33: htva | K33: = | L33: =I33*F33 -> 0 | M33: htva
D34: façade avant | E34: =IF('ENCODAGE DE MON PROJET'!E123="NON", 0, 'ENCODAGE DE MON PROJET'!E28) -> 0
D35: façade arrière principale | E35: =IF('ENCODAGE DE MON PROJET'!E153="NON", 0, 'ENCODAGE DE MON PROJET'!E29) -> 0
D36: façade annexe | E36: =IF('ENCODAGE DE MON PROJET'!E172="NON", 0, 'ENCODAGE DE MON PROJET'!E30) -> 0
C37: 1.2.8 | D37: Découpe battée châssis | F37: =SUM(E38:E40) -> 0 | G37: pce | H37: x | I37: 300 | J37: htva | K37: = | L37: =I37*F37 -> 0 | M37: htva
D38: façade avant | E38: =IF('ENCODAGE DE MON PROJET'!E123="OUI", 'ENCODAGE DE MON PROJET'!E28, IF('ENCODAGE DE MON PROJET'!E251="OUI",'ENCODAGE DE MON PROJET'!E253,0)) -> 0
D39: façade arrière principale | E39: =IF('ENCODAGE DE MON PROJET'!E153="OUI", 'ENCODAGE DE MON PROJET'!E29, IF('ENCODAGE DE MON PROJET'!E251="OUI",'ENCODAGE DE MON PROJET'!E254,0)) -> 0
D40: façade annexe | E40: =IF('ENCODAGE DE MON PROJET'!E172="OUI", 'ENCODAGE DE MON PROJET'!E30, IF('ENCODAGE DE MON PROJET'!E251="OUI",'ENCODAGE DE MON PROJET'!E255,0)) -> 0
C41: 1.2.9 | D41: Décapage plâtre | F41: =IF('ENCODAGE DE MON PROJET'!E124="NON", 0, 'ENCODAGE DE MON PROJET'!E125) -> 0 | G41: m² | H41: x | I41: 11 | J41: htva | K41: = | L41: =I41*F41 -> 0 | M41: htva
C42: 1.2.10 | D42: Dépose et évacuation de corps de chauffe | F42: =IF(AND('ENCODAGE DE MON PROJET'!E333="OUI",'ENCODAGE DE MON PROJET'!E334="pompe à chaleur"),'ENCODAGE DE MON PROJET'!E335,0) -> 0 | G42: pce | H42: x | I42: 58 | J42: htva | K42: = | L42: =I42*F42 -> 0 | M42: htva
C44: 1.3 | D44: Isolation thermique de dalle
C45: 1.3.1 | D45: Isolation en PUR/PIR - 12 cm | F45: =SUM(E46:E47) -> 0 | G45: m² | H45: x | I45: 84 | J45: htva | K45: = | L45: =I45*F45 -> 0 | M45: htva
D46: dalle sur sol | E46: =IF('ENCODAGE DE MON PROJET'!E211="NON", 0, 'ENCODAGE DE MON PROJET'!E212) -> 0
D47: plafond des caves | E47: =IF('ENCODAGE DE MON PROJET'!E230="NON", 0, IF('ENCODAGE DE MON PROJET'!E231="plancher béton",'ENCODAGE DE MON PROJET'!E232,0)) -> 0
C48: 1.3.2 | D48: Isolation en fibre de bois entre gîtes - 12 cm | F48: =SUM(E49) -> 0 | G48: m² | H48: x | I48: 48 | J48: htva | K48: = | L48: =I48*F48 -> 0 | M48: htva
D49: plafond des caves | E49: =IF('ENCODAGE DE MON PROJET'!E230="NON", 0, IF('ENCODAGE DE MON PROJET'!E231="gîtage bois",'ENCODAGE DE MON PROJET'!E232,0)) -> 0
C50: 1.3.1 | D50: Nouvelle chape | F50: =SUM(E51:E52) -> 0 | G50: m² | H50: x | I50: 40 | J50: htva | K50: = | L50: =I50*F50 -> 0 | M50: htva
D51: dalle sur sol | E51: =IF('ENCODAGE DE MON PROJET'!E211="NON", 0, 'ENCODAGE DE MON PROJET'!E212) -> 0
...

Sheet PRIMES
D3: Renov-Bizet - Rénovation groupée du quartier Bizet
D4: Quartier Bizet - 1070 Anderlecht
B10: 3 | D10: Estimation des primes
C12: 3.1 | D12: Prime A : services et études
C13: 3.1.1 | D13: A4 Suivi architecte | F13: 0.08 | H13: x | I13: =SUM(L16:L83) -> 0 | K13: = | L13: =I13*F13 -> 0
C15: 3.2 | D15: Prime B : installation de chantier
C16: 3.2.1 | D16: B1 Protection et échafaudage | F16: =SUM(E17:E19) -> 0 | G16: m² | H16: x | I16: =IF('ENCODAGE DE MON PROJET'!E53="Classe I",20,IF('ENCODAGE DE MON PROJET'!E53="Classe II",30,IF('ENCODAGE DE MON PROJET'!E53="Classe III",40))) -> 20 | K16: = | L16: =I16*F16 -> 0
D17: façade avant | E17: =IF('ENCODAGE DE MON PROJET'!E123="NON", 0, 'ENCODAGE DE MON PROJET'!E125) -> 0
D18: façade arrière principale | E18: =IF('ENCODAGE DE MON PROJET'!E153="NON", 0, 'ENCODAGE DE MON PROJET'!E154) -> 0
D19: façade annexe | E19: =IF('ENCODAGE DE MON PROJET'!E172="NON", 0, 'ENCODAGE DE MON PROJET'!E173) -> 0
C21: 3.3 | D21: Prime E : toiture
C22: 3.3.1 | D22: E1 Structures de la toiture | F22: =IF('ENCODAGE DE MON PROJET'!E53="Classe I",30%,IF('ENCODAGE DE MON PROJET'!E53="Classe II",40%,IF('ENCODAGE DE MON PROJET'!E53="Classe III",50%))) -> 0.3 | H22: x | I22: =IF(AND('ENCODAGE DE MON PROJET'!E61="OUI",'ENCODAGE DE MON PROJET'!E63="OUI"), ESTIMATIF!L95,0) -> 0 | K22: = | L22: =I22*F22 -> 0
C23: 3.3.1 | D23: E2 Couverture et étanchéité | F23: =SUM(E24:E26) -> 0 | G23: m² | H23: x | I23: =IF('ENCODAGE DE MON PROJET'!E53="Classe I",60,IF('ENCODAGE DE MON PROJET'!E53="Classe II",70,IF('ENCODAGE DE MON PROJET'!E53="Classe III",80))) -> 60 | K23: = | L23: =I23*F23 -> 0
D24: toiture versants principale | E24: =IF('ENCODAGE DE MON PROJET'!E61="NON", 0, 'ENCODAGE DE MON PROJET'!E64) -> 0
D25: toiture plate principale | E25: =IF('ENCODAGE DE MON PROJET'!E84="NON", 0, 'ENCODAGE DE MON PROJET'!E85) -> 0
D26: toiture plate annexe | E26: =IF('ENCODAGE DE MON PROJET'!E103="NON", 0, 'ENCODAGE DE MON PROJET'!E104) -> 0
C27: 3.3.1 | D27: E2 Complément pour matériau écologique | F27: =SUM(E28:E30) -> 0 | G27: m² | H27: x | I27: =IF('ENCODAGE DE MON PROJET'!E51="OUI",20,0) -> 0 | K27: = | L27: =I27*F27 -> 0
D28: toiture versants principale | E28: =E24 -> 0
D29: toiture plate principale | E29: =E25 -> 0
D30: toiture plate annexe | E30: =E26 -> 0
C31: 3.3.1 | D31: E3 Isolation thermique de la toiture | F31: =SUM(E32:E34) -> 0 | G31: m² | H31: x | I31: =IF('ENCODAGE DE MON PROJET'!E53="Classe I",35,IF('ENCODAGE DE MON PROJET'!E53="Classe II",55,IF('ENCODAGE DE MON PROJET'!E53="Classe III",75))) -> 35 | K31: = | L31: =I31*F31 -> 0
D32: toiture versants principale | E32: =IF(OR('ENCODAGE DE MON PROJET'!E61="OUI",'ENCODAGE DE MON PROJET'!E62="OUI"), 'ENCODAGE DE MON PROJET'!E64,0) -> 0
D33: toiture plate principale | E33: =E25 -> 0
D34: toiture plate annexe | E34: =E26 -> 0
C35: 3.3.1 | D35: E3 Complément pour matériau écologique | F35: =SUM(E36:E38) -> 0 | G35: m² | H35: x | I35: =IF('ENCODAGE DE MON PROJET'!E51="OUI",10,0) -> 0 | K35: = | L35: =I35*F35 -> 0
D36: toiture versants principale | E36: =E32 -> 0
D37: toiture plate principale | E37: =E25 -> 0
D38: toiture plate annexe | E38: =E26 -> 0
C39: 3.3.1 | D39: E4 Accessoires de toiture | F39: =IF('ENCODAGE DE MON PROJET'!E53="Classe I",30%,IF('ENCODAGE DE MON PROJET'!E53="Classe II",40%,IF('ENCODAGE DE MON PROJET'!E53="Classe III",50%))) -> 0.3 | H39: x | I39: =IF(AND('ENCODAGE DE MON PROJET'!E61="NON",'ENCODAGE DE MON PROJET'!E84="NON",'ENCODAGE DE MON PROJET'!E103="NON"),0,SUM(E40:E42)) -> 0 | K39: = | L39: =I39*F39 -> 0
D40: accessoires | E40: =ESTIMATIF!L26+ESTIMATIF!L97+ESTIMATIF!L101+ESTIMATIF!L102+ESTIMATIF!L103+ESTIMATIF!L115+ESTIMATIF!L120+ESTIMATIF!L123+ESTIMATIF!L126+ESTIMATIF!L98+ESTIMATIF!L116 -> 0
D41: fenêtres de toiture à versants | E41: =SUM(ESTIMATIF!L137:'ESTIMATIF'!L138) -> 0
D42: fenêtres de toiture plate | E42: =SUM(ESTIMATIF!L139:'ESTIMATIF'!L140) -> 0
C44: 3.4 | D44: Prime F : Façades
C45: 3.3.1 | D45: F1 Isolation thermique des façades par l'intérieur | F45: =IF('ENCODAGE DE MON PROJET'!E124="NON", 0, 'ENCODAGE DE MON PROJET'!E125) -> 0 | G45: m² | H45: x | I45: =IF('ENCODAGE DE MON PROJET'!E53="Classe I",35,IF('ENCODAGE DE MON PROJET'!E53="Classe II",40,IF('ENCODAGE DE MON PROJET'!E53="Classe III",45))) -> 35 | K45: = | L45: =I45*F45 -> 0
C46: 3.3.1 | D46: F1 Isolation thermique des façades par l'extérieur | F46: =SUM(E47:E50) -> 0 | G46: m² | H46: x | I46: =IF('ENCODAGE DE MON PROJET'!E53="Classe I",50,IF('ENCODAGE DE MON PROJET'!E53="Classe II",70,IF('ENCODAGE DE MON PROJET'!E53="Classe III",90))) -> 50 | K46: = | L46: =I46*F46 -> 0
D47: façade avant | E47: =IF('ENCODAGE DE MON PROJET'!E123="NON", 0, 'ENCODAGE DE MON PROJET'!E125) -> 0
D48: façade arrière principale | E48: =IF('ENCODAGE DE MON PROJET'!E153="NON", 0, 'ENCODAGE DE MON PROJET'!E154) -> 0
D49: façade annexe | E49: =IF('ENCODAGE DE MON PROJET'!E172="NON", 0, 'ENCODAGE DE MON PROJET'!E173) -> 0
D50: mitoyens | E50: =IF('ENCODAGE DE MON PROJET'!E191="NON", 0, 'ENCODAGE DE MON PROJET'!E192) -> 0
C51: 3.3.1 | D51: F1 Complément pour matériau écologique | F51: =SUM(E52:E55) -> 0 | G51: m² | H51: x | I51: =IF('ENCODAGE DE MON PROJET'!E51="OUI",10,0) -> 0 | K51: = | L51: =I51*F51 -> 0
...
